Workbook

Sheet vdch1slide60
A1: Ví dụ ở Slide 60: các bạn đừng quên các chi tiết của Bảng CĐKT như tên bảng, tên đơn vị, thời điểm lập, đơn vị tính
A3: BẢNG CÂN ĐỐI KẾ TOÁN CÔNG TY BCA
A4: Ngày 31/12/N
A5: Đvt: triệu đồng
A6: TÀI SẢN | D6: NGUỒN VỐN
A7: 1 | B7: Hàng Hoá | C7: 500 | D7: 1 | E7: Phải trả CNV | F7: 800
A8: 2 | B8: Thành phẩm | C8: 3200 | D8: 2 | E8: Vay dài hạn | F8: 2100
A9: 3 | B9: Phải thu KH | C9: 1500 | D9: 3 | E9: Nguồn vốn kinh doanh | F9: 7000
A10: 4 | B10: Tiền gửi NH | C10: 2000 | D10: 4 | E10: Vay ngắn hạn | F10: 1800
A11: 5 | B11: Tài sản cố định | C11: 7300 | D11: 5 | E11: Thuế phải nộp NN | F11: 550
A12: 6 | B12: Tiền mặt | C12: 800 | D12: 6 | E12: Phải trả NB | F12: 900
A13: 7 | B13: công cụ, dụng cụ | C13: 200 | D13: 7 | E13: LN chưa phân phối | F13: X
B14: Tổng TS | C14: =SUM(C7:C13) -> 15500 | E14: Tổng NV | F14: 13,150 + X
A16: Ta có | B16: Tổng TS = Tổng NV
B17: > X = 15,500 - 13,150
B18: > X = 2,350

Sheet baitapch1
A3: BẢNG CÂN ĐỐI KẾ TOÁN CÔNG TY X
A4: Ngày 01/01/N
A5: Đvt: 1.000 đồng
A6: TÀI SẢN | D6: NGUỒN VỐN
A7: 1 | B7: MMTB | C7: 500000 | D7: 1 | E7: PTNLĐ | F7: 6000
A8: 2 | B8: NVL | C8: 100000 | D8: 2 | E8: Vay dài hạn | F8: 60000
A9: 3 | B9: Tạm ứng | C9: 500 | D9: 3 | E9: Người mua ứng trước | F9: 5000
A10: 4 | B10: Nhà,VP | C10: 90000 | D10: 4 | E10: Quỹ đầu tư phát triển | F10: 10000
A11: 5 | B11: Tiền gửi NH | C11: 100000 | D11: 5 | E11: Nguồn vốn XDCB | F11: 50000
A12: 6 | B12: Hàng tồn kho | C12: 20000 | D12: 6 | E12: Nguồn vốn kinh doanh | F12: 900000
A13: 7 | B13: Thành phẩm tồn | C13: 20000 | D13: 7 | E13: LNCPP | F13: 15000
A14: 8 | B14: Nhà kho, xưởng | C14: 90000 | D14: 8 | E14: Thuế phải nộp NN | F14: 18000
A15: 9 | B15: Ứng trước cho người bán | C15: 5000 | D15: 9 | E15: Phải trả NB | F15: 10000
A16: 10 | B16: Tiền đóng ký quỹ | C16: 22000 | D16: 10 | E16: Quỹ dự phòng tài chính | F16: 20000
A17: 11 | B17: thiết bị quản lý | C17: 100000 | D17: 11 | E17: Quỹ khen thưởng Phúc lợi | F17: 2000
A18: 12 | B18: TM tại quỹ | C18: 13500 | D18: 12 | E18: Vay ngắn hạn | F18: 20000
A19: 13 | B19: Phải thu KH | C19: 15000
A20: 14 | B20: Sản phẩm DD (CPSXDD) | C20: 15000
A21: 15 | B21: Cho vay ngắn hạn | C21: 5000
A22: 16 | B22: Công cụ, Dụng cụ | C22: 20000
B23: Tổng TS | C23: =SUM(C7:C22) -> 1116000 | E23: Tổng NV | F23: =SUM(F7:F18) -> 1116000

Sheet bt1ch3
A2: Nợ | B2: TK TM - 111 | D2: Có
A3: SDĐK | B3: 100000000
A4: nv1 | B4: 40000000
C5: 1000000 | D5: NV2
C6: 5000000 | D6: NV4
A7: NV6 | B7: 10000000
C8: 3000000 | D8: nv7
A9: CPS | B9: =SUM(B4:B8) -> 50000000 | C9: =SUM(C3:C8) -> 9000000 | D9: CPS
A10: SDCK | B10: =B3+B9-C9 -> 141000000

Sheet bt3ch3
A2: Nợ | B2: TK TM - 111 | D2: Có | F2: Nợ | G2: TK NLVL - 152 | I2: Có
A3: SDĐK | B3: 50000000 | F3: SDĐK | G3: 16000000
A4: nv3 | B4: 8000000 | F4: nv1 | G4: 8000000
C5: 12000000 | D5: nv4 | H5: 5000000 | I5: nv2
C6: 8000000 | D6: nv5 | F6: nv4 | G6: 12000000
C7: 2000000 | D7: nv6 | F7: nv7 | G7: 10000000
C8: 5000000 | D8: nv7 | H8: 4000000 | I8: nv9
A9: nv10 | B9: 10000000 | F9: nv11a | G9: 15000000
H10: 5000000 | I10: nv11b
A12: CPS | B12: =SUM(B4:B11) -> 18000000 | C12: =SUM(C3:C11) -> 27000000 | D12: CPS | F12: CPS | G12: =SUM(G4:G11) -> 45000000 | H12: =SUM(H3:H11) -> 14000000 | I12: CPS
A13: SDCK | B13: =B3+B12-C12 -> 41000000 | F13: SDCK | G13: =G3+G12-H12 -> 47000000
A16: Nợ | B16: TK PTNB - 331 | D16: Có
C17: 20000000 | D17: SDĐK
C18: 8000000 | D18: nv1
A19: nv5 | B19: 8000000 | C19: 5000000 | D19: nv7
C20: 15000000 | D20: nv11a
A23: CPS | B23: =SUM(B18:B22) -> 8000000 | C23: =SUM(C18:C22) -> 28000000 | D23: CPS
C24: =C17+C23-B23 -> 40000000 | D24: SDCK

Sheet tkchitiet3.5
A2: Nợ | B2: TK 131 - PTKH | D2: Có | F2: Nợ | G2: SCT - KH A | I2: Có | L2: Nợ | M2: SCT KH B | O2: Có
A3: SDĐK | B3: 980 | F3: SDĐK | G3: 230 | L3: SDĐK | M3: 460
A4: nv 1 | B4: 685 | L4: nv1 | M4: 525
C5: 290 | D5: nv 2 | H5: 130 | I5: nv3 | N5: 200 | O5: nv3
C6: 330 | D6: nv3
C7: 250 | D7: nv4 | F7: nv5 | G7: 165
A8: nv5 | B8: 165
A12: CPS | B12: =SUM(B4:B11) -> 850 | C12: =SUM(C3:C11) -> 870 | D12: CPS | F12: CPS | G12: =SUM(G4:G11) -> 165 | H12: =SUM(H3:H11) -> 130 | I12: CPS | L12: CPS | M12: =SUM(M4:M11) -> 525 | N12: =SUM(N3:N11) -> 200 | O12: CPS
A13: SDCK | B13: =B3+B12-C12 -> 960 | F13: SDCK | G13: =G3+G12-H12 -> 265 | L13: SDCK | M13: =M3+M12-N12 -> 785
F18: Nợ | G18: SCT KH C | I18: Có | L18: Nợ | M18: SCT KH D | O18: Có
F19: SDĐK | G19: 290 | L19: SDĐK | M19: 0
H20: 290 | I20: nv2 | L20: nv 1 | M20: 160
H21: 250 | I21: nv4
F28: CPS | G28: =SUM(G20:G27) -> 0 | H28: =SUM(H19:H27) -> 540 | I28: CPS | L28: CPS | M28: =SUM(M20:M27) -> 160 | N28: =SUM(N19:N27) -> 0 | O28: CPS
H29: 250 | I29: SDCK | L29: SDCK | M29: =M19+M28-N28 -> 160
A32: Bảng tổng hợp chi tiết Phải thu Khách hàng
A33: Tháng 07 năm N
A34: Đơn vị tính: triệu đồng
A36: TT | B36: Tên Khách hàng | C36: Số dư đầu tháng | E36: Phát sinh trong tháng | G36: Số dư cuối tháng
C37: Nợ | D37: Có | E37: Nợ | F37: Có | G37: Nợ | H37: Có
A38: 1 | B38: KH A | C38: 230 | E38: 165 | F38: 130 | G38: 265
A39: 2 | B39: KH B | C39: 460 | E39: 525 | F39: 200 | G39: 785
A40: 3 | B40: KH C | C40: 290 | E40: 0 | F40: 540 | H40: 250
A41: 4 | B41: KH D | C41: 0 | E41: 160 | F41: 0 | G41: 160
B42: Cộng | C42: =SUM(C38:C41) -> 980 | D42: =SUM(D38:D41) -> 0 | E42: =SUM(E38:E41) -> 850 | F42: =SUM(F38:F41) -> 870 | G42: =SUM(G38:G41) -> 1210 | H42: =SUM(H38:H41) -> 250
A44: Đối chiếu với TK tổng hợp | C44: 980 | E44: 850 | F44: 870 | G44: 960
A45: Khi trình bày trên Bảng Báo cáo tình hình tài chính (Bảng cân đối kế toán)
A46: BẢNG BÁO CÁO TÌNH HÌNH TÀI CHÍNH (BẢNG CÂN ĐỐI KẾ TOÁN) DN X
A47: Ngày 31/07/N
A48: Đơn vị tính: triệu đồng
A50: TÀI SẢN | D50: NGUỒN VỐN
A51: 1 | B51: … | D51: 1 | E51: …
A52: … | B52: Phải thu khách hàng | C52: 1210 | D52: …. | E52: KH ứng trước tiền | F52: 250

Sheet Sheet1
A2: DN X tính thuế GTGT theo pp khấu trừ, thuế suất thuế GTGT 10%
D5: đầu vào | I5: đầu ra
A6: Các yếu tố đầu vào: nvl, ccdc, tscđ,… | B6: MUA | F6: sx | J6: BÁN
A8: Gía mua | B8: 10 | F8: Thành phẩm | I8: Giá bán | J8: 30
A9: Thuế GTGT được khấu trừ (đầu vào) | B9: 1 | I9: Thuế GTGT phải nộp (đầu ra) | J9: 3
A10: Giá thanh toán | B10: 11 | I10: Giá thanh toán | J10: 33
A12: Ví dụ: DN mua và nhập kho 1 lô NVL với giá trên hoá đơn là 120tr, chưa | I12: Ví dụ: DN bán hàng cho KH A, giá bán theo HĐ là 250tr
A13: thanh toán cho người bán, thời gian thanh toán: 30 ngày | I13: thu ngay bằng chuyển khoản. (NHg đã báo Có)
A15: ĐK: | I15: ĐK:
A16: Nợ TK 152 - NLVL : 120 | I16: Nợ TK 112 - TGNH | J16: 275
A17: Nợ TK 133- TGTGTĐKT: 12 | I17: Có TK 511 - DTBH&CCDV | J17: 250
A18: Có TK 331 - PTNB: 132 | I18: Có TK 333 - T&CKPNNNN | J18: 25

Sheet Sheet2
A2: Ng | B2: 60 | C2: tgsd | D2: 5
A5: Phương pháp KH đường thẳng | G5: Phương pháp KH theo số dư giảm dần
A7: Năm | B7: Nguyên Gía | C7: Khấu hao | D7: Khấu hao luỹ kế | E7: Giá trị còn lại | G7: Năm | H7: Nguyên Gía | I7: Khấu hao | J7: Khấu hao luỹ kế | K7: Giá trị còn lại
A8: 0 | B8: 60 | C8: 0 | D8: 0 | E8: 60 | G8: 0 | H8: 60 | I8: 0 | J8: 0 | K8: 60
A9: 1 | B9: 60 | C9: =$B$2/$D$2 -> 12 | D9: =C9 -> 12 | E9: =E8-D9 -> 48 | G9: 1 | H9: 60 | I9: =K8*0.4 -> 24 | J9: 24 | K9: =K8-J9 -> 36
A10: 2 | B10: 60 | C10: =$B$2/$D$2 -> 12 | D10: =D9+C10 -> 24 | E10: =B10-D10 -> 36 | G10: 2 | H10: 60 | I10: =K9*0.4 -> 14.4 | J10: =J9+I10 -> 38.4 | K10: =K8-J10 -> 21.6
A11: 3 | B11: 60 | C11: =$B$2/$D$2 -> 12 | D11: =D10+C11 -> 36 | E11: =B11-D11 -> 24 | G11: 3 | H11: 60 | I11: =K10*0.4 -> 8.64 | J11: =J10+I11 -> 47.04 | K11: =K8-J11 -> 12.96 | M11: =K11/2 -> 6.48
A12: 4 | B12: 60 | C12: =$B$2/$D$2 -> 12 | D12: =D11+C12 -> 48 | E12: =B12-D12 -> 12 | G12: 4 | H12: 60 | I12: =M11 -> 6.48 | J12: =J11+I12 -> 53.52 | K12: =K8-J12 -> 6.48
A13: 5 | B13: 60 | C13: =$B$2/$D$2 -> 12 | D13: =D12+C13 -> 60 | E13: =B13-D13 -> 0 | G13: 5 | H13: 60 | I13: =M11 -> 6.48 | J13: =J12+I13 -> 60 | K13: =K8-J13 -> 0

Sheet Sheet3
A1: NV1 | B1: 5 máy MX
G2: nhập khẩu
C3: Nước ngoài: Pháp, Mỹ, Anh…. | I3: Việt Nam
I4: Cảng
I5: Đóng thuế NK
I6: Thuế GTGT hàng nhập khẩu
M7: Kho của đơn vị
K8: vận chuyển về
A10: Giá Nhập khẩu | C10: =5*15000*21500 -> 1612500000
A11: Thuế nhập khẩu | C11: =C10*0.12 -> 193500000
A12: Thuế GTGT hàng nhập khẩu | C12: =(C10+C11)*0.1 -> 180600000
A13: Chi phí trước khi sử dụng
A14: Chi phí lưu kho | C14: =7700000/1.1 -> 7000000
A15: Chi phí vc, bốc dỡ | C15: =880000/1.1 -> 800000
A16: chi phí lắp đặt | C16: =1210000/1.1 -> 1100000
B17: NG = 1,612,500,000 + 193,500,000 + (7,000,000 + 800,000+ 1,100,000)
B18: =C10+C11+C14+C15+C16 -> 1814900000
A20: NV2 | B20: Ô tô vận tải
B21: NG = ( 330,000,000/1.1) + 330,000,000*2% + 7.250.000
B22: 313850000

Sheet tinh gia xuat kho
A1: Phương pháp FIFO
A3: Bảng theo dõi chi tiết VLC trong tháng 2
A4: Đvt: 1.000 đồng
A6: Ngày | B6: Số CT | C6: Đơn giá | D6: Nhập | F6: Xuất | H6: Tồn
D7: Số lượng | E7: Thành tiền | F7: Số lượng | G7: Thành tiền | H7: Số lượng | I7: Thành tiền
A8: 43862 | C8: =I8/H8 -> 15000 | H8: 1000 | I8: 15000000
A9: 43863 | F9: 300 | G9: =F9*C8 -> 4500000 | H9: =H8-F9 -> 700 | I9: =I8-G9 -> 10500000
A10: 43866 | C10: =E10/D10 -> 15350 | D10: 500 | E10: =(15050*D10+150000) -> 7675000 | H10: =H9+D10 -> 1200 | I10: =I9+E10 -> 18175000
A11: 43871 | F11: 1000 | G11: =I9+(300*C10) -> 15105000 | H11: =H10-F11 -> 200 | I11: =I10-G11 -> 3070000
A12: 43881 | C12: =E12/D12 -> 14650 | D12: 1500 | E12: =(D12*14500)+225000 -> 21975000 | H12: =H11+D12 -> 1700 | I12: =I11+E12 -> 25045000
A13: 43886 | F13: 1100 | G13: =I11+(900*C12) -> 16255000 | H13: =H12-F13 -> 600 | I13: =I12-G13 -> 8790000
A14: Cộng | E14: =E10+E12 -> 29650000 | G14: =G9+G11+G13 -> 35860000
A16: Phương pháp Bình quân gia quyền liên hoàn
A18: Bảng theo dõi chi tiết VLC trong tháng 2
A19: Đvt: 1.000 đồng
A21: Ngày | B21: Số CT | C21: Đơn giá | D21: Nhập | F21: Xuất | H21: Tồn
D22: Số lượng | E22: Thành tiền | F22: Số lượng | G22: Thành tiền | H22: Số lượng | I22: Thành tiền
A23: 43862 | C23: =I23/H23 -> 15000 | H23: 1000 | I23: 15000000
A24: 43863 | F24: 300 | G24: =F24*C23 -> 4500000 | H24: =H23-F24 -> 700 | I24: =I23-G24 -> 10500000
A25: 43866 | C25: =E25/D25 -> 15350 | D25: 500 | E25: =(15050*D25+150000) -> 7675000 | H25: =H24+D25 -> 1200 | I25: =I24+E25 -> 18175000
A26: 43871 | C26: 15146 | F26: 1000 | G26: =C26*F26 -> 15146000 | H26: =H25-F26 -> 200 | I26: =I25-G26 -> 3029000
A27: 43881 | C27: =E27/D27 -> 14650 | D27: 1500 | E27: =(D27*14500)+225000 -> 21975000 | H27: =H26+D27 -> 1700 | I27: =I26+E27 -> 25004000
A28: 43886 | C28: 14708 | F28: 1100 | G28: =F28*C28 -> 16178800 | H28: =H27-F28 -> 600 | I28: =I27-G28 -> 8825200
A29: Cộng | E29: =E25+E27 -> 29650000 | G29: =G24+G26+G28 -> 35824800
A31: Phương pháp Bình quân gia quyền cuối kỳ
A33: Bảng theo dõi chi tiết VLC trong tháng 2
A34: Đvt: 1.000 đồng
A36: Ngày | B36: Số CT | C36: Đơn giá | D36: Nhập | F36: Xuất | H36: Tồn
D37: Số lượng | E37: Thành tiền | F37: Số lượng | G37: Thành tiền | H37: Số lượng | I37: Thành tiền
A38: 43862 | C38: =I38/H38 -> 15000 | H38: 1000 | I38: 15000000
A39: 43863 | C39: =H47 -> 14883.333 | F39: 300 | G39: =F39*C39 -> 4465000 | H39: =H38-F39 -> 700 | I39: =I38-G39 -> 10535000
A40: 43866 | C40: =E40/D40 -> 15350 | D40: 500 | E40: =(15050*D40+150000) -> 7675000 | H40: =H39+D40 -> 1200 | I40: =I39+E40 -> 18210000
A41: 43871 | C41: =H47 -> 14883.333 | F41: 1000 | G41: =F41*C41 -> 14883333 | H41: =H40-F41 -> 200 | I41: =I40-G41 -> 3326666.7
A42: 43881 | C42: =E42/D42 -> 14650 | D42: 1500 | E42: =(D42*14500)+225000 -> 21975000 | H42: =H41+D42 -> 1700 | I42: =I41+E42 -> 25301667
A43: 43886 | C43: =H47 -> 14883.333 | F43: 1100 | G43: =F43*C43 -> 16371667 | H43: =H42-F43 -> 600 | I43: =I42-G43 -> 8930000
A44: Cộng | E44: =E40+E42 -> 29650000 | G44: =G39+G41+G43 -> 35720000
A46: Cuối kỳ,
A47: Tính đơn giá bình quân cuối kỳ = ((15000000+(7675000+21975000))/(1000+(500+1500) = | H47: =(I38+E40+E42)/(H38+D40+D42) -> 14883.333

Sheet Sheet4
A1: Phương pháp FIFO
A3: Bảng theo dõi chi tiết Hàng hoá A trong tháng 6 | K3: Nợ | L3: TK HH - 156 | N3: Có
A4: Đvt: 1.000 đồng | K4: SDĐK | L4: =I8 -> 200000
K5: nv1 | L5: =E9 -> 384120 | M5: =G10 -> 545708 | N5: nv2
A6: Ngày | B6: Số CT | C6: Đơn giá | D6: Nhập | F6: Xuất | H6: Tồn | K6: nv3 | L6: =E11 -> 940200
D7: Số lượng | E7: Thành tiền | F7: Số lượng | G7: Thành tiền | H7: Số lượng | I7: Thành tiền | K7: nv5 | L7: =E12 -> 204000
A8: 43983 | C8: 1000 | H8: 200 | I8: =H8*C8 -> 200000 | M8: =G13 -> 1141812 | N8: nv6
A9: 43983 | C9: =E9/D9 -> 960.3 | D9: 400 | E9: =(D9*960)+120 -> 384120 | H9: =H8+D9 -> 600 | I9: =I8+E9 -> 584120
A10: 43991 | F10: 560 | G10: =I8+(360*C9) -> 545708 | H10: =H9-F10 -> 40 | I10: =I9-G10 -> 38412 | K10: CPS | L10: =SUM(L5:L7) -> 1528320 | M10: =SUM(M4:M9) -> 1687520 | N10: CPS
A11: 43994 | C11: =E11/D11 -> 940.2 | D11: 1000 | E11: =(940*1000)+200 -> 940200 | H11: =H10+D11 -> 1040 | I11: =I10+E11 -> 978612 | K11: SDCK | L11: =L4+L10-M10 -> 40800
A12: 44002 | C12: =E12/D12 -> 1020 | D12: 200 | E12: =200*1020 -> 204000 | H12: =H11+D12 -> 1240 | I12: =I11+E12 -> 1182612
A13: 44012 | F13: 1200 | G13: =1141812 -> 1141812 | H13: =H12-F13 -> 40 | I13: =I12-G13 -> 40800
A15: Cộng | E15: =E10+E12 -> 204000 | G15: =G10+G13 -> 1687520
A17: Phương pháp Bình quân gia quyền liên hoàn (bình quân sau mỗi lần nhập)
A19: Bảng theo dõi chi tiết Hàng hoá A trong tháng 6
A20: Đvt: 1.000 đồng
A22: Ngày | B22: Số CT | C22: Đơn giá | D22: Nhập | F22: Xuất | H22: Tồn
D23: Số lượng | E23: Thành tiền | F23: Số lượng | G23: Thành tiền | H23: Số lượng | I23: Thành tiền
A24: 43983 | C24: 1000 | H24: 200 | I24: =H24*C24 -> 200000
A25: 43983 | C25: =E25/D25 -> 960.3 | D25: 400 | E25: =(D25*960)+120 -> 384120 | H25: =H24+D25 -> 600 | I25: =I24+E25 -> 584120
A26: 43991 | F26: 560 | G26: =(I25/H25)*F26 -> 545178.67 | H26: =H25-F26 -> 40 | I26: =I25-G26 -> 38941.333
A27: 43994 | C27: =E27/D27 -> 940.2 | D27: 1000 | E27: =(940*1000)+200 -> 940200 | H27: =H26+D27 -> 1040 | I27: =I26+E27 -> 979141.33
A28: 44002 | C28: =E28/D28 -> 1020 | D28: 200 | E28: =200*1020 -> 204000 | H28: =H27+D28 -> 1240 | I28: =I27+E28 -> 1183141.3
A29: 44012 | F29: 1200 | G29: =(I28/H28)*F29 -> 1144975.5 | H29: =H28-F29 -> 40 | I29: =I28-G29 -> 38165.849
A31: Cộng | E31: =E26+E28 -> 204000 | G31: =G26+G29 -> 1690154.2
A34: Đơn Giá xuất kho ngày 9/6 = ((200*1000)+(960.3*400))/(200+400) = 973.53
A36: Đơn giá xuất kho ngày 30/6 = ((40*973.53)+(1000*940.2)+(200*1020))/(40+1000+200) = 954.15
A39: Phương pháp Bình quân gia quyền cuối kỳ
A41: Đơn giá xuất kho bình quân cuối kỳ = ((200*1000)+(400*960.3)+(1000*940.2)+(200*1020))/(200+400+1000+200) = 960.18

Sheet Sheet5
A1: Mô tả nghiệp vụ bán hàng
I2: Xác định giá vốn hàng bán | L2: Nợ TK 632 - GVHB
E3: Xuất hàng | L3: Có TK 155 - TP/156 - HH
C4: DN | G4: KH
G5: KH
C8: Ghi nhận Doanh thu
C9: Nợ TK 111/112/131
C10: Có TK 511 - DTBH &CCDV
C11: Có Tk 333 - Thuế&CKPNNN

Sheet tk,gsk va BCDKT
A1: Nợ | B1: TK TM - 111 | D1: Có | F1: Nợ | G1: TK PTKH - 131 | I1: Có | K1: Nợ | L1: TK CCDC - 153 | N1: Có
A2: SDĐK | B2: 80000 | F2: SDĐK | G2: 120000 | K2: SDĐK | L2: 200000
A3: nv1 | B3: 20000 | H3: 20000 | I3: nv1 | K3: nv4 | L3: 10000
C4: 10000 | D4: nv4
C5: 30000 | D5: nv5
C6: 20000 | D6: nv6
A11: CPS | B11: =SUM(B3:B10) -> 20000 | C11: =SUM(C2:C10) -> 60000 | D11: CPS | F11: CPS | G11: =SUM(G3:G10) -> 0 | H11: =SUM(H2:H10) -> 20000 | I11: CPS | K11: CPS | L11: =SUM(L3:L10) -> 10000 | M11: =SUM(M2:M10) -> 0 | N11: CPS
A12: SDCK | B12: =B2+B11-C11 -> 40000 | F12: SDCK | G12: =G2+G11-H11 -> 100000 | K12: SDCK | L12: =L2+L11-M11 -> 210000
A14: Nợ | B14: TK HH - 156 | D14: Có | F14: Nợ | G14: TK TSCĐHH - 211 | I14: Có | K14: Nợ | L14: TK HGĐB - 157 | N14: Có
A15: SDĐK | B15: 400000 | F15: SDĐK | G15: 1200000 | K15: SDĐK | L15: 0
C16: 100000 | D16: nv3 | F16: nv2 | G16: 200000 | K16: nv3 | L16: 100000
A24: CPS | B24: =SUM(B16:B23) -> 0 | C24: =SUM(C15:C23) -> 100000 | D24: CPS | F24: CPS | G24: =SUM(G16:G23) -> 200000 | H24: =SUM(H15:H23) -> 0 | I24: CPS | K24: CPS | L24: =SUM(L16:L23) -> 100000 | M24: =SUM(M15:M23) -> 0 | N24: CPS
A25: SDCK | B25: =B15+B24-C24 -> 300000 | F25: SDCK | G25: =G15+G24-H24 -> 1400000 | K25: SDCK | L25: =L15+L24-M24 -> 100000
A27: Nợ | B27: TK PTNB - 331 | D27: Có | F27: Nợ | G27: TK V&NTTC -341 | I27: Có | K27: Nợ | L27: TK PT-PNK - 338 | N27: Có
C28: 60000 | D28: SDĐK | H28: 120000 | I28: SDĐK | M28: 20000 | N28: SDĐK
A29: nv5 | B29: 20000 | F29: nv6 | G29: 20000 | K29: nv5 | L29: 10000
A34: CPS | B34: =SUM(B29:B33) -> 20000 | C34: =SUM(C29:C33) -> 0 | D34: CPS | F34: CPS | G34: =SUM(G29:G33) -> 20000 | H34: =SUM(H29:H33) -> 0 | I34: CPS | K34: CPS | L34: =SUM(L29:L33) -> 10000 | M34: =SUM(M29:M33) -> 0 | N34: CPS
C35: =C28+C34-B34 -> 40000 | D35: SDCK | H35: =H28+H34-G34 -> 100000 | I35: SDCK | M35: =M28+M34-L34 -> 10000 | N35: SDCK
A37: Nợ | B37: TK VĐTCCSH - 411 | D37: Có
C38: 1800000 | D38: SDĐK
C39: 200000 | D39: nv2
A44: CPS | B44: =SUM(B39:B43) -> 0 | C44: =SUM(C39:C43) -> 200000 | D44: CPS
C45: =C38+C44-B44 -> 2000000 | D45: SDCK

Sheet bang CDTK
A1: Bài 2 trong file Chương 3: Tài khoản & GSK
A3: BẢNG CÂN ĐỐI TÀI KHOẢN
A4: Tháng 01 Năm 200N+1
A5: ĐVT: 1.000đ
A7: STT | B7: Tên Tài khoản | C7: Số hiệu TK | D7: Số dư đầu kỳ | F7: Phát sinh trong tháng | H7: Số dư cuối tháng
D8: Nợ | E8: Có | F8: Nợ | G8: Có | H8: Nợ | I8: Có
A9: 1 | B9: Tiền mặt | C9: 111 | D9: 80000 | F9: 20000 | G9: 60000 | H9: 40000
A10: 2 | B10: Phải thu KH | C10: 131 | D10: 120000 | F10: 0 | G10: 20000 | H10: 100000
A11: 3 | B11: CC,DC | C11: 153 | D11: 200000 | F11: 10000 | G11: 0 | H11: =D11+F11-G11 -> 210000
A12: 4 | B12: HH | C12: 156 | D12: 400000 | F12: 0 | G12: 100000 | H12: 300000
A13: 5 | B13: HGĐB | C13: 157 | D13: 0 | F13: 100000 | G13: 0 | H13: 100000
A14: 6 | B14: TSCĐHH | C14: 211 | D14: 1200000 | F14: 200000 | G14: 0 | H14: 1400000
A15: 7 | B15: PTNB | C15: 331 | E15: 60000 | F15: 20000 | G15: 0 | I15: 40000
A16: 8 | B16: PT- PNK | C16: 338 | E16: 20000 | F16: 10000 | G16: 0 | I16: 10000
A17: 9 | B17: V&NTTC | C17: 341 | E17: 120000 | F17: 20000 | G17: 0 | I17: 100000
A18: 10 | B18: VĐTCSH | C18: 411 | E18: 1800000 | F18: 0 | G18: 200000 | H18: 0 | I18: 2000000
A19: Cộng | D19: =SUM(D9:D18) -> 2000000 | E19: =SUM(E9:E18) -> 2000000 | F19: =SUM(F9:F18) -> 380000 | G19: =SUM(G9:G18) -> 380000 | H19: =SUM(H9:H18) -> 2150000 | I19: =SUM(I9:I18) -> 2150000

Sheet bang BCTHTC
A1: Bài 2 trong file Chương 3: Tài khoản & GSK
A3: BẢNG BÁO CÁO TÌNH HÌNH TÀI CHÍNH (CÂN ĐỐI KẾ TOÁN) CÔNG TY …
A4: Ngày 31/01/200N+1
A5: Đvt: 1.000đ
A6: TÀI SẢN | D6: NGUỒN VỐN
A7: 1 | B7: Tiền mặt | C7: 40000 | D7: 1 | E7: PTNB | F7: ='tk,gsk va BCDKT'!C35 -> 40000
A8: 2 | B8: Phải thu KH | C8: ='tk,gsk va BCDKT'!G12 -> 100000 | D8: 2 | E8: PT, PNK | F8: ='tk,gsk va BCDKT'!M35 -> 10000
A9: 3 | B9: CC,DC | C9: ='tk,gsk va BCDKT'!L12 -> 210000 | D9: 3 | E9: V&NTTC | F9: ='tk,gsk va BCDKT'!H35 -> 100000
A10: 4 | B10: HH | C10: ='tk,gsk va BCDKT'!B25 -> 300000 | D10: 4 | E10: VĐTCSH | F10: ='tk,gsk va BCDKT'!C45 -> 2000000
A11: 5 | B11: HGĐB | C11: ='tk,gsk va BCDKT'!L25 -> 100000
A12: 6 | B12: TSCĐHH | C12: ='tk,gsk va BCDKT'!G25 -> 1400000
B14: Tổng TS | C14: =SUM(C7:C13) -> 2150000 | E14: Tổng NV | F14: =SUM(F7:F13) -> 2150000
